BEGIN:VCALENDAR
VERSION:2.0
PRODID:-//Subtle Body Healing with Cator Shachoy - ECPv6.15.12.2//NONSGML v1.0//EN
CALSCALE:GREGORIAN
METHOD:PUBLISH
X-ORIGINAL-URL:https://catorshachoy.com
X-WR-CALDESC:Events for Subtle Body Healing with Cator Shachoy
REFRESH-INTERVAL;VALUE=DURATION:PT1H
X-Robots-Tag:noindex
X-PUBLISHED-TTL:PT1H
BEGIN:VTIMEZONE
TZID:America/Los_Angeles
BEGIN:DAYLIGHT
TZOFFSETFROM:-0800
TZOFFSETTO:-0700
TZNAME:PDT
DTSTART:20240310T100000
END:DAYLIGHT
BEGIN:STANDARD
TZOFFSETFROM:-0700
TZOFFSETTO:-0800
TZNAME:PST
DTSTART:20241103T090000
END:STANDARD
BEGIN:DAYLIGHT
TZOFFSETFROM:-0800
TZOFFSETTO:-0700
TZNAME:PDT
DTSTART:20250309T100000
END:DAYLIGHT
BEGIN:STANDARD
TZOFFSETFROM:-0700
TZOFFSETTO:-0800
TZNAME:PST
DTSTART:20251102T090000
END:STANDARD
BEGIN:DAYLIGHT
TZOFFSETFROM:-0800
TZOFFSETTO:-0700
TZNAME:PDT
DTSTART:20260308T100000
END:DAYLIGHT
BEGIN:STANDARD
TZOFFSETFROM:-0700
TZOFFSETTO:-0800
TZNAME:PST
DTSTART:20261101T090000
END:STANDARD
END:VTIMEZONE
BEGIN:VEVENT
DTSTART;TZID=America/Los_Angeles:20250304T091500
DTEND;TZID=America/Los_Angeles:20250304T104500
DTSTAMP:20260421T050040
CREATED:20241018T001041Z
LAST-MODIFIED:20241121T222215Z
UID:10000110-1741079700-1741085100@catorshachoy.com
SUMMARY:Yoga & Meditation for EveryBody weekly class
DESCRIPTION:Tuesday mornings This class runs between 9:15-10:45am pacific \nThe Yoga Room Berkeley – https://www.yogaroomberkeley.com/\n2530 San Pablo\, Berkeley\, CA 94702 \nClass begins and ends with short guided meditations. Yoga focused on awareness of alignment and healing. All are welcome. Mixed level. Open to beginners and experienced students. Contact Cator with questions.
URL:https://catorshachoy.com/event/yoga-meditation-for-everybody-weekly-class-2/2025-03-04/
LOCATION:The Yoga Room Berkeley\, CA\, 2530 San Pablo Avenue\, Suite D\, Berkeley\, CA\, 94702\, United States
CATEGORIES:Classes
ATTACH;FMTTYPE=image/jpeg:https://catorshachoy.com/wp-content/uploads/2024/05/star-sunsest-scaled.jpg
ORGANIZER;CN="Cator Shachoy":MAILTO:catorshachoy@gmail.com
END:VEVENT
BEGIN:VEVENT
DTSTART;TZID=America/Los_Angeles:20250311T091500
DTEND;TZID=America/Los_Angeles:20250311T104500
DTSTAMP:20260421T050040
CREATED:20241018T001041Z
LAST-MODIFIED:20241121T222215Z
UID:10000111-1741684500-1741689900@catorshachoy.com
SUMMARY:Yoga & Meditation for EveryBody weekly class
DESCRIPTION:Tuesday mornings This class runs between 9:15-10:45am pacific \nThe Yoga Room Berkeley – https://www.yogaroomberkeley.com/\n2530 San Pablo\, Berkeley\, CA 94702 \nClass begins and ends with short guided meditations. Yoga focused on awareness of alignment and healing. All are welcome. Mixed level. Open to beginners and experienced students. Contact Cator with questions.
URL:https://catorshachoy.com/event/yoga-meditation-for-everybody-weekly-class-2/2025-03-11/
LOCATION:The Yoga Room Berkeley\, CA\, 2530 San Pablo Avenue\, Suite D\, Berkeley\, CA\, 94702\, United States
CATEGORIES:Classes
ATTACH;FMTTYPE=image/jpeg:https://catorshachoy.com/wp-content/uploads/2024/05/star-sunsest-scaled.jpg
ORGANIZER;CN="Cator Shachoy":MAILTO:catorshachoy@gmail.com
END:VEVENT
BEGIN:VEVENT
DTSTART;TZID=America/Los_Angeles:20250318T091500
DTEND;TZID=America/Los_Angeles:20250318T104500
DTSTAMP:20260421T050040
CREATED:20241018T001041Z
LAST-MODIFIED:20241121T222215Z
UID:10000112-1742289300-1742294700@catorshachoy.com
SUMMARY:Yoga & Meditation for EveryBody weekly class
DESCRIPTION:Tuesday mornings This class runs between 9:15-10:45am pacific \nThe Yoga Room Berkeley – https://www.yogaroomberkeley.com/\n2530 San Pablo\, Berkeley\, CA 94702 \nClass begins and ends with short guided meditations. Yoga focused on awareness of alignment and healing. All are welcome. Mixed level. Open to beginners and experienced students. Contact Cator with questions.
URL:https://catorshachoy.com/event/yoga-meditation-for-everybody-weekly-class-2/2025-03-18/
LOCATION:The Yoga Room Berkeley\, CA\, 2530 San Pablo Avenue\, Suite D\, Berkeley\, CA\, 94702\, United States
CATEGORIES:Classes
ATTACH;FMTTYPE=image/jpeg:https://catorshachoy.com/wp-content/uploads/2024/05/star-sunsest-scaled.jpg
ORGANIZER;CN="Cator Shachoy":MAILTO:catorshachoy@gmail.com
END:VEVENT
BEGIN:VEVENT
DTSTART;TZID=America/Los_Angeles:20250325T091500
DTEND;TZID=America/Los_Angeles:20250325T104500
DTSTAMP:20260421T050040
CREATED:20241018T001041Z
LAST-MODIFIED:20241121T222215Z
UID:10000113-1742894100-1742899500@catorshachoy.com
SUMMARY:Yoga & Meditation for EveryBody weekly class
DESCRIPTION:Tuesday mornings This class runs between 9:15-10:45am pacific \nThe Yoga Room Berkeley – https://www.yogaroomberkeley.com/\n2530 San Pablo\, Berkeley\, CA 94702 \nClass begins and ends with short guided meditations. Yoga focused on awareness of alignment and healing. All are welcome. Mixed level. Open to beginners and experienced students. Contact Cator with questions.
URL:https://catorshachoy.com/event/yoga-meditation-for-everybody-weekly-class-2/2025-03-25/
LOCATION:The Yoga Room Berkeley\, CA\, 2530 San Pablo Avenue\, Suite D\, Berkeley\, CA\, 94702\, United States
CATEGORIES:Classes
ATTACH;FMTTYPE=image/jpeg:https://catorshachoy.com/wp-content/uploads/2024/05/star-sunsest-scaled.jpg
ORGANIZER;CN="Cator Shachoy":MAILTO:catorshachoy@gmail.com
END:VEVENT
END:VCALENDAR