BEGIN:VCALENDAR
VERSION:2.0
PRODID:-//Subtle Body Healing with Cator Shachoy - ECPv6.15.12.2//NONSGML v1.0//EN
CALSCALE:GREGORIAN
METHOD:PUBLISH
X-WR-CALNAME:Subtle Body Healing with Cator Shachoy
X-ORIGINAL-URL:https://catorshachoy.com
X-WR-CALDESC:Events for Subtle Body Healing with Cator Shachoy
REFRESH-INTERVAL;VALUE=DURATION:PT1H
X-Robots-Tag:noindex
X-PUBLISHED-TTL:PT1H
BEGIN:VTIMEZONE
TZID:America/Los_Angeles
BEGIN:DAYLIGHT
TZOFFSETFROM:-0800
TZOFFSETTO:-0700
TZNAME:PDT
DTSTART:20230312T100000
END:DAYLIGHT
BEGIN:STANDARD
TZOFFSETFROM:-0700
TZOFFSETTO:-0800
TZNAME:PST
DTSTART:20231105T090000
END:STANDARD
BEGIN:DAYLIGHT
TZOFFSETFROM:-0800
TZOFFSETTO:-0700
TZNAME:PDT
DTSTART:20240310T100000
END:DAYLIGHT
BEGIN:STANDARD
TZOFFSETFROM:-0700
TZOFFSETTO:-0800
TZNAME:PST
DTSTART:20241103T090000
END:STANDARD
BEGIN:DAYLIGHT
TZOFFSETFROM:-0800
TZOFFSETTO:-0700
TZNAME:PDT
DTSTART:20250309T100000
END:DAYLIGHT
BEGIN:STANDARD
TZOFFSETFROM:-0700
TZOFFSETTO:-0800
TZNAME:PST
DTSTART:20251102T090000
END:STANDARD
END:VTIMEZONE
BEGIN:VEVENT
DTSTART;TZID=America/Los_Angeles:20241126T091500
DTEND;TZID=America/Los_Angeles:20241126T104500
DTSTAMP:20260420T104412
CREATED:20241018T001041Z
LAST-MODIFIED:20241121T222215Z
UID:10000096-1732612500-1732617900@catorshachoy.com
SUMMARY:Yoga & Meditation for EveryBody weekly class
DESCRIPTION:Tuesday mornings This class runs between 9:15-10:45am pacific \nThe Yoga Room Berkeley – https://www.yogaroomberkeley.com/\n2530 San Pablo\, Berkeley\, CA 94702 \nClass begins and ends with short guided meditations. Yoga focused on awareness of alignment and healing. All are welcome. Mixed level. Open to beginners and experienced students. Contact Cator with questions.
URL:https://catorshachoy.com/event/yoga-meditation-for-everybody-weekly-class-2/2024-11-26/
LOCATION:The Yoga Room Berkeley\, CA\, 2530 San Pablo Avenue\, Suite D\, Berkeley\, CA\, 94702\, United States
CATEGORIES:Classes
ATTACH;FMTTYPE=image/jpeg:https://catorshachoy.com/wp-content/uploads/2024/05/star-sunsest-scaled.jpg
ORGANIZER;CN="Cator Shachoy":MAILTO:catorshachoy@gmail.com
END:VEVENT
BEGIN:VEVENT
DTSTART;TZID=America/Los_Angeles:20241119T091500
DTEND;TZID=America/Los_Angeles:20241119T104500
DTSTAMP:20260420T104412
CREATED:20241018T001041Z
LAST-MODIFIED:20241121T222215Z
UID:10000095-1732007700-1732013100@catorshachoy.com
SUMMARY:Yoga & Meditation for EveryBody weekly class
DESCRIPTION:Tuesday mornings This class runs between 9:15-10:45am pacific \nThe Yoga Room Berkeley – https://www.yogaroomberkeley.com/\n2530 San Pablo\, Berkeley\, CA 94702 \nClass begins and ends with short guided meditations. Yoga focused on awareness of alignment and healing. All are welcome. Mixed level. Open to beginners and experienced students. Contact Cator with questions.
URL:https://catorshachoy.com/event/yoga-meditation-for-everybody-weekly-class-2/2024-11-19/
LOCATION:The Yoga Room Berkeley\, CA\, 2530 San Pablo Avenue\, Suite D\, Berkeley\, CA\, 94702\, United States
CATEGORIES:Classes
ATTACH;FMTTYPE=image/jpeg:https://catorshachoy.com/wp-content/uploads/2024/05/star-sunsest-scaled.jpg
ORGANIZER;CN="Cator Shachoy":MAILTO:catorshachoy@gmail.com
END:VEVENT
BEGIN:VEVENT
DTSTART;TZID=America/Los_Angeles:20241112T091500
DTEND;TZID=America/Los_Angeles:20241112T104500
DTSTAMP:20260420T104412
CREATED:20241018T001041Z
LAST-MODIFIED:20241121T222215Z
UID:10000094-1731402900-1731408300@catorshachoy.com
SUMMARY:Yoga & Meditation for EveryBody weekly class
DESCRIPTION:Tuesday mornings This class runs between 9:15-10:45am pacific \nThe Yoga Room Berkeley – https://www.yogaroomberkeley.com/\n2530 San Pablo\, Berkeley\, CA 94702 \nClass begins and ends with short guided meditations. Yoga focused on awareness of alignment and healing. All are welcome. Mixed level. Open to beginners and experienced students. Contact Cator with questions.
URL:https://catorshachoy.com/event/yoga-meditation-for-everybody-weekly-class-2/2024-11-12/
LOCATION:The Yoga Room Berkeley\, CA\, 2530 San Pablo Avenue\, Suite D\, Berkeley\, CA\, 94702\, United States
CATEGORIES:Classes
ATTACH;FMTTYPE=image/jpeg:https://catorshachoy.com/wp-content/uploads/2024/05/star-sunsest-scaled.jpg
ORGANIZER;CN="Cator Shachoy":MAILTO:catorshachoy@gmail.com
END:VEVENT
BEGIN:VEVENT
DTSTART;TZID=America/Los_Angeles:20241105T091500
DTEND;TZID=America/Los_Angeles:20241105T104500
DTSTAMP:20260420T104412
CREATED:20241018T001041Z
LAST-MODIFIED:20241121T222215Z
UID:10000093-1730798100-1730803500@catorshachoy.com
SUMMARY:Yoga & Meditation for EveryBody weekly class
DESCRIPTION:Tuesday mornings This class runs between 9:15-10:45am pacific \nThe Yoga Room Berkeley – https://www.yogaroomberkeley.com/\n2530 San Pablo\, Berkeley\, CA 94702 \nClass begins and ends with short guided meditations. Yoga focused on awareness of alignment and healing. All are welcome. Mixed level. Open to beginners and experienced students. Contact Cator with questions.
URL:https://catorshachoy.com/event/yoga-meditation-for-everybody-weekly-class-2/2024-11-05/
LOCATION:The Yoga Room Berkeley\, CA\, 2530 San Pablo Avenue\, Suite D\, Berkeley\, CA\, 94702\, United States
CATEGORIES:Classes
ATTACH;FMTTYPE=image/jpeg:https://catorshachoy.com/wp-content/uploads/2024/05/star-sunsest-scaled.jpg
ORGANIZER;CN="Cator Shachoy":MAILTO:catorshachoy@gmail.com
END:VEVENT
BEGIN:VEVENT
DTSTART;TZID=America/Los_Angeles:20241029T091500
DTEND;TZID=America/Los_Angeles:20241029T104500
DTSTAMP:20260420T104412
CREATED:20241018T001041Z
LAST-MODIFIED:20241121T222215Z
UID:10000092-1730193300-1730198700@catorshachoy.com
SUMMARY:Yoga & Meditation for EveryBody weekly class
DESCRIPTION:Tuesday mornings This class runs between 9:15-10:45am pacific \nThe Yoga Room Berkeley – https://www.yogaroomberkeley.com/\n2530 San Pablo\, Berkeley\, CA 94702 \nClass begins and ends with short guided meditations. Yoga focused on awareness of alignment and healing. All are welcome. Mixed level. Open to beginners and experienced students. Contact Cator with questions.
URL:https://catorshachoy.com/event/yoga-meditation-for-everybody-weekly-class-2/2024-10-29/
LOCATION:The Yoga Room Berkeley\, CA\, 2530 San Pablo Avenue\, Suite D\, Berkeley\, CA\, 94702\, United States
CATEGORIES:Classes
ATTACH;FMTTYPE=image/jpeg:https://catorshachoy.com/wp-content/uploads/2024/05/star-sunsest-scaled.jpg
ORGANIZER;CN="Cator Shachoy":MAILTO:catorshachoy@gmail.com
END:VEVENT
BEGIN:VEVENT
DTSTART;TZID=America/Los_Angeles:20241022T091500
DTEND;TZID=America/Los_Angeles:20241022T104500
DTSTAMP:20260420T104412
CREATED:20241018T001041Z
LAST-MODIFIED:20241121T222215Z
UID:10000091-1729588500-1729593900@catorshachoy.com
SUMMARY:Yoga & Meditation for EveryBody weekly class
DESCRIPTION:Tuesday mornings This class runs between 9:15-10:45am pacific \nThe Yoga Room Berkeley – https://www.yogaroomberkeley.com/\n2530 San Pablo\, Berkeley\, CA 94702 \nClass begins and ends with short guided meditations. Yoga focused on awareness of alignment and healing. All are welcome. Mixed level. Open to beginners and experienced students. Contact Cator with questions.
URL:https://catorshachoy.com/event/yoga-meditation-for-everybody-weekly-class-2/2024-10-22/
LOCATION:The Yoga Room Berkeley\, CA\, 2530 San Pablo Avenue\, Suite D\, Berkeley\, CA\, 94702\, United States
CATEGORIES:Classes
ATTACH;FMTTYPE=image/jpeg:https://catorshachoy.com/wp-content/uploads/2024/05/star-sunsest-scaled.jpg
ORGANIZER;CN="Cator Shachoy":MAILTO:catorshachoy@gmail.com
END:VEVENT
BEGIN:VEVENT
DTSTART;TZID=America/Los_Angeles:20241015T091500
DTEND;TZID=America/Los_Angeles:20241015T104500
DTSTAMP:20260420T104412
CREATED:20241018T001041Z
LAST-MODIFIED:20241121T222215Z
UID:10000090-1728983700-1728989100@catorshachoy.com
SUMMARY:Yoga & Meditation for EveryBody weekly class
DESCRIPTION:Tuesday mornings This class runs between 9:15-10:45am pacific \nThe Yoga Room Berkeley – https://www.yogaroomberkeley.com/\n2530 San Pablo\, Berkeley\, CA 94702 \nClass begins and ends with short guided meditations. Yoga focused on awareness of alignment and healing. All are welcome. Mixed level. Open to beginners and experienced students. Contact Cator with questions.
URL:https://catorshachoy.com/event/yoga-meditation-for-everybody-weekly-class-2/2024-10-15/
LOCATION:The Yoga Room Berkeley\, CA\, 2530 San Pablo Avenue\, Suite D\, Berkeley\, CA\, 94702\, United States
CATEGORIES:Classes
ATTACH;FMTTYPE=image/jpeg:https://catorshachoy.com/wp-content/uploads/2024/05/star-sunsest-scaled.jpg
ORGANIZER;CN="Cator Shachoy":MAILTO:catorshachoy@gmail.com
END:VEVENT
BEGIN:VEVENT
DTSTART;TZID=America/Los_Angeles:20241008T091500
DTEND;TZID=America/Los_Angeles:20241008T104500
DTSTAMP:20260420T104412
CREATED:20241018T001041Z
LAST-MODIFIED:20241121T222215Z
UID:10000089-1728378900-1728384300@catorshachoy.com
SUMMARY:Yoga & Meditation for EveryBody weekly class
DESCRIPTION:Tuesday mornings This class runs between 9:15-10:45am pacific \nThe Yoga Room Berkeley – https://www.yogaroomberkeley.com/\n2530 San Pablo\, Berkeley\, CA 94702 \nClass begins and ends with short guided meditations. Yoga focused on awareness of alignment and healing. All are welcome. Mixed level. Open to beginners and experienced students. Contact Cator with questions.
URL:https://catorshachoy.com/event/yoga-meditation-for-everybody-weekly-class-2/2024-10-08/
LOCATION:The Yoga Room Berkeley\, CA\, 2530 San Pablo Avenue\, Suite D\, Berkeley\, CA\, 94702\, United States
CATEGORIES:Classes
ATTACH;FMTTYPE=image/jpeg:https://catorshachoy.com/wp-content/uploads/2024/05/star-sunsest-scaled.jpg
ORGANIZER;CN="Cator Shachoy":MAILTO:catorshachoy@gmail.com
END:VEVENT
BEGIN:VEVENT
DTSTART;TZID=America/Los_Angeles:20241001T091500
DTEND;TZID=America/Los_Angeles:20241001T104500
DTSTAMP:20260420T104412
CREATED:20241018T001041Z
LAST-MODIFIED:20241121T222215Z
UID:10000088-1727774100-1727779500@catorshachoy.com
SUMMARY:Yoga & Meditation for EveryBody weekly class
DESCRIPTION:Tuesday mornings This class runs between 9:15-10:45am pacific \nThe Yoga Room Berkeley – https://www.yogaroomberkeley.com/\n2530 San Pablo\, Berkeley\, CA 94702 \nClass begins and ends with short guided meditations. Yoga focused on awareness of alignment and healing. All are welcome. Mixed level. Open to beginners and experienced students. Contact Cator with questions.
URL:https://catorshachoy.com/event/yoga-meditation-for-everybody-weekly-class-2/2024-10-01/
LOCATION:The Yoga Room Berkeley\, CA\, 2530 San Pablo Avenue\, Suite D\, Berkeley\, CA\, 94702\, United States
CATEGORIES:Classes
ATTACH;FMTTYPE=image/jpeg:https://catorshachoy.com/wp-content/uploads/2024/05/star-sunsest-scaled.jpg
ORGANIZER;CN="Cator Shachoy":MAILTO:catorshachoy@gmail.com
END:VEVENT
END:VCALENDAR