BEGIN:VCALENDAR
VERSION:2.0
PRODID:-//Subtle Body Healing with Cator Shachoy - ECPv6.15.12.2//NONSGML v1.0//EN
CALSCALE:GREGORIAN
METHOD:PUBLISH
X-WR-CALNAME:Subtle Body Healing with Cator Shachoy
X-ORIGINAL-URL:https://catorshachoy.com
X-WR-CALDESC:Events for Subtle Body Healing with Cator Shachoy
REFRESH-INTERVAL;VALUE=DURATION:PT1H
X-Robots-Tag:noindex
X-PUBLISHED-TTL:PT1H
BEGIN:VTIMEZONE
TZID:America/Los_Angeles
BEGIN:DAYLIGHT
TZOFFSETFROM:-0800
TZOFFSETTO:-0700
TZNAME:PDT
DTSTART:20230312T100000
END:DAYLIGHT
BEGIN:STANDARD
TZOFFSETFROM:-0700
TZOFFSETTO:-0800
TZNAME:PST
DTSTART:20231105T090000
END:STANDARD
BEGIN:DAYLIGHT
TZOFFSETFROM:-0800
TZOFFSETTO:-0700
TZNAME:PDT
DTSTART:20240310T100000
END:DAYLIGHT
BEGIN:STANDARD
TZOFFSETFROM:-0700
TZOFFSETTO:-0800
TZNAME:PST
DTSTART:20241103T090000
END:STANDARD
BEGIN:DAYLIGHT
TZOFFSETFROM:-0800
TZOFFSETTO:-0700
TZNAME:PDT
DTSTART:20250309T100000
END:DAYLIGHT
BEGIN:STANDARD
TZOFFSETFROM:-0700
TZOFFSETTO:-0800
TZNAME:PST
DTSTART:20251102T090000
END:STANDARD
END:VTIMEZONE
BEGIN:VEVENT
DTSTART;TZID=America/Los_Angeles:20240728T123000
DTEND;TZID=America/Los_Angeles:20240728T153000
DTSTAMP:20260420T195752
CREATED:20240619T220229Z
LAST-MODIFIED:20241121T222253Z
UID:10000005-1722169800-1722180600@catorshachoy.com
SUMMARY:Relieve Jaw Tension with Yoga & Mindfulness
DESCRIPTION:HYBRID – online & In Studio\n**registrants receive access to zoom recording for 2 weeks after workshop date**
URL:https://catorshachoy.com/event/relieve-jaw-tension-with-yoga-mindfulness/
LOCATION:The Yoga Room Berkeley\, CA\, 2530 San Pablo Avenue\, Suite D\, Berkeley\, CA\, 94702\, United States
CATEGORIES:Workshops
ATTACH;FMTTYPE=image/png:https://catorshachoy.com/wp-content/uploads/2024/06/CST-above.png
ORGANIZER;CN="Cator Shachoy":MAILTO:catorshachoy@gmail.com
END:VEVENT
END:VCALENDAR