BEGIN:VCALENDAR
VERSION:2.0
PRODID:-//Subtle Body Healing with Cator Shachoy - ECPv6.15.12.2//NONSGML v1.0//EN
CALSCALE:GREGORIAN
METHOD:PUBLISH
X-WR-CALNAME:Subtle Body Healing with Cator Shachoy
X-ORIGINAL-URL:https://catorshachoy.com
X-WR-CALDESC:Events for Subtle Body Healing with Cator Shachoy
REFRESH-INTERVAL;VALUE=DURATION:PT1H
X-Robots-Tag:noindex
X-PUBLISHED-TTL:PT1H
BEGIN:VTIMEZONE
TZID:America/Los_Angeles
BEGIN:DAYLIGHT
TZOFFSETFROM:-0800
TZOFFSETTO:-0700
TZNAME:PDT
DTSTART:20250309T100000
END:DAYLIGHT
BEGIN:STANDARD
TZOFFSETFROM:-0700
TZOFFSETTO:-0800
TZNAME:PST
DTSTART:20251102T090000
END:STANDARD
BEGIN:DAYLIGHT
TZOFFSETFROM:-0800
TZOFFSETTO:-0700
TZNAME:PDT
DTSTART:20260308T100000
END:DAYLIGHT
BEGIN:STANDARD
TZOFFSETFROM:-0700
TZOFFSETTO:-0800
TZNAME:PST
DTSTART:20261101T090000
END:STANDARD
BEGIN:DAYLIGHT
TZOFFSETFROM:-0800
TZOFFSETTO:-0700
TZNAME:PDT
DTSTART:20270314T100000
END:DAYLIGHT
BEGIN:STANDARD
TZOFFSETFROM:-0700
TZOFFSETTO:-0800
TZNAME:PST
DTSTART:20271107T090000
END:STANDARD
END:VTIMEZONE
BEGIN:VEVENT
DTSTART;TZID=America/Los_Angeles:20261107T123000
DTEND;TZID=America/Los_Angeles:20261107T180000
DTSTAMP:20260421T162033
CREATED:20251213T072121Z
LAST-MODIFIED:20251213T074138Z
UID:10000310-1794054600-1794074400@catorshachoy.com
SUMMARY:Cranial Touch Workshop Series
DESCRIPTION:A series of workshops exploring relevant subjects in Craniosacral Therapy \nSaturday afternoons 12:30-5:30/ 6pm \nOpen to all. Limited to 10 participants \n$175 \nRegister for individual classes or the whole series \nWorkshop dates: \nMarch 21 – Perceptual Skills: 6 layers\, 6 elements \nMay 16 – Mid-line \nJuly 18 – Sacrum \nSeptember 26 – TMJ/TMD \nNovember 7 – Cranial Touch Intro \nCraniosacral Therapy is a gentle\, hands-on healing modality. Through deep listening\, restrictions in body and mind are released\, resulting in greater health and well-being. Cator Shachoy\, author of The TMJ Handbook: A Therapeutic Guide to Relieving Jaw Tension and Pain with Yoga and Mindfulness is a master practitioner\, with over 35 years training and clinical experience. You are invited to join this special course exploring a variety of topics in Craniosacral Therapy.
URL:https://catorshachoy.com/event/cranial-touch-workshop-series/2026-11-07/
LOCATION:The Root & The Branch\, 2409 Sacramento Street SUITE 2\, San Francisco\, CA\, 94115\, United States
CATEGORIES:Classes,upcoming events,Workshops
ATTACH;FMTTYPE=image/png:https://catorshachoy.com/wp-content/uploads/2024/06/CST-above.png
ORGANIZER;CN="Cator Shachoy":MAILTO:catorshachoy@gmail.com
END:VEVENT
END:VCALENDAR