BEGIN:VCALENDAR
VERSION:2.0
PRODID:-//Subtle Body Healing with Cator Shachoy - ECPv6.15.12.2//NONSGML v1.0//EN
CALSCALE:GREGORIAN
METHOD:PUBLISH
X-ORIGINAL-URL:https://catorshachoy.com
X-WR-CALDESC:Events for Subtle Body Healing with Cator Shachoy
REFRESH-INTERVAL;VALUE=DURATION:PT1H
X-Robots-Tag:noindex
X-PUBLISHED-TTL:PT1H
BEGIN:VTIMEZONE
TZID:America/Los_Angeles
BEGIN:DAYLIGHT
TZOFFSETFROM:-0800
TZOFFSETTO:-0700
TZNAME:PDT
DTSTART:20240310T100000
END:DAYLIGHT
BEGIN:STANDARD
TZOFFSETFROM:-0700
TZOFFSETTO:-0800
TZNAME:PST
DTSTART:20241103T090000
END:STANDARD
BEGIN:DAYLIGHT
TZOFFSETFROM:-0800
TZOFFSETTO:-0700
TZNAME:PDT
DTSTART:20250309T100000
END:DAYLIGHT
BEGIN:STANDARD
TZOFFSETFROM:-0700
TZOFFSETTO:-0800
TZNAME:PST
DTSTART:20251102T090000
END:STANDARD
BEGIN:DAYLIGHT
TZOFFSETFROM:-0800
TZOFFSETTO:-0700
TZNAME:PDT
DTSTART:20260308T100000
END:DAYLIGHT
BEGIN:STANDARD
TZOFFSETFROM:-0700
TZOFFSETTO:-0800
TZNAME:PST
DTSTART:20261101T090000
END:STANDARD
END:VTIMEZONE
BEGIN:VEVENT
DTSTART;TZID=America/Los_Angeles:20251005T100000
DTEND;TZID=America/Los_Angeles:20251005T130000
DTSTAMP:20260421T024556
CREATED:20250908T233237Z
LAST-MODIFIED:20250918T002356Z
UID:10000237-1759658400-1759669200@catorshachoy.com
SUMMARY:Free Infant Craniosacral Clinic
DESCRIPTION:Free craniosacral clinic for pre-crawling infants. By appointment only. Pre-registation required. No drop-ins. Donations gratefully accepted. \nTo register\, complete this form – https://docs.google.com/forms/d/e/1FAIpQLSfx9Xbgh3YcF0OM6mtYvx5Hv605f_DuJVNQ79WG0-Z7LSUL6A/viewform
URL:https://catorshachoy.com/event/free-infant-craniosacral-clinic/
LOCATION:Preventive Medical Center of Marin\, 4340 Redwood Hwy\, A-22\, San Rafael\, 94903\, United States
ATTACH;FMTTYPE=image/jpeg:https://catorshachoy.com/wp-content/uploads/2024/06/baby-above-scaled.jpg
END:VEVENT
END:VCALENDAR